Workbook
Name __JJ21: [1]중기일위대가!$J$25
Name __JK21: [1]중기일위대가!$K$25
Name __JN21: [1]중기일위대가!$I$25
Name _JJ21: [1]중기일위대가!$J$25
Name _JK21: [1]중기일위대가!$K$25
Name _JN21: [1]중기일위대가!$I$25
Name \d: #REF!
Name \i: #REF!
Name AAA: BlankMacro1
Name bbb: BlankMacro1
Name ccc: BlankMacro1
Name D: BlankMacro1
Name DAN: #REF!
Name dd: BlankMacro1
Name DDD: BlankMacro1
Name DDS: BlankMacro1
Name DDW: BlankMacro1
Name dhd: BlankMacro1
Name DKD: BlankMacro1
Name DKE: BlankMacro1
Name DKGK: BlankMacro1
Name drsg: #REF!
Name DS: BlankMacro1
Name DWS: BlankMacro1
Name E: BlankMacro1
Name edgh: #REF!
Name edtgh: #REF!
Name EXE: BlankMacro1
Name f: #REF!
Name FFFF: BlankMacro1
Name fffff: #N/A
Name fffffff: BlankMacro1
Name GAB: #REF!
Name gfaag: Dlog_Show
Name gff: BlankMacro1
Name gfg: [0]!uiy
Name GFH: [0]!FFF
Name gg: BlankMacro1
Name GGG: [0]!DGRT
Name ggh: [0]!jhg
Name GHG: #N/A
Name ghgfh: #N/A
Name GHHJHJ: BlankMacro1
Name GREE: [0]!vnb
Name GVHBG: #N/A
Name gvv: [0]!ㅁㄴㄹㅇㄹ
Name GYTR: #N/A
Name han_code: [5]!han_code
Name HBHG: #N/A
Name HCY: [0]!CDD
Name HGG: #N/A
Name hgju: BlankMacro1
Name HHG: [0]!NNC
Name hhhh: BlankMacro1
Name HHK: #N/A
Name hjk: #N/A
Name HTD: #N/A
Name hyh: [0]!ytjuy
Name ii: BlankMacro1
Name iik: [0]!ghgfh

Sheet 원가계산서
B1: 공 사 원 가 계 산 서
B2: 공사명 : 대전로봇드론지원센터 시험동 신축정보통신공사 | F2: ="일금 "&NUMBERSTRING(E28,1)&"원정 (\"&FIXED(E28,0,0)&")" -> 일금 영원정 (\0)
B3: 비 목 | E3: 금 액 | F3: 구 성 비 | G3: 비 고
A4: A1 | B4: 순 공 사 원 가 | C4: 재 료 비 | D4: 직 접 재 료 비 | E4: =TRUNC(공종별집계표!F5, 0) -> 0
A5: A2 | D5: 간 접 재 료 비 | E5: 0
A6: A3 | D6: 작업설, 부산물(△) | E6: 0
A7: AS | D7: [ 소 계 ] | E7: =TRUNC(E4+E5-E6, 0) -> 0
A8: B1 | C8: 노 무 비 | D8: 직 접 노 무 비 | E8: =TRUNC(공종별집계표!H5, 0) -> 0
A9: B2 | D9: 간 접 노 무 비 | E9: =TRUNC(E8*0.175, 0) -> 0 | F9: 직접노무비 * 17.5%
A10: BS | D10: [ 소 계 ] | E10: =TRUNC(E8+E9, 0) -> 0
A11: C4 | C11: 경 비 | D11: 산 재 보 험 료 | E11: =TRUNC(E10*0.0356, 0) -> 0 | F11: 노무비 * 3.56%
A12: C5 | D12: 고 용 보 험 료 | E12: =TRUNC(E10*0.0101, 0) -> 0 | F12: 노무비 * 1.01%
A13: C6 | D13: 국민 건강 보험료 | E13: =TRUNC(E8*0.03595, 0) -> 0 | F13: 직접노무비 * 3.595%
A14: C7 | D14: 국민 연금 보험료 | E14: =TRUNC(E8*0.0475, 0) -> 0 | F14: 직접노무비 * 4.75%
A15: CA | D15: 산업안전보건관리비 | E15: =TRUNC((E7+E8+(0/1.1))*0.0311, 0) -> 0 | F15: (재료비+직노) * 3.11%
A16: CB | D16: 노인장기요양보험료 | E16: =TRUNC(E13*0.1314, 0) -> 0 | F16: 건강보험료 * 13.14%
A17: CG | D17: 기 타 경 비 | E17: =TRUNC((E7+E10)*0.05, 0) -> 0 | F17: (재료비+노무비) * 5%
D18: 석 면 분 담 금 | E18: =TRUNC((E10)*0.00006, 0) -> 0 | F18: 노무비 * 0.006%
D19: 임 금 채 권 부 담 금 | E19: =TRUNC((E10)*0.0009, 0) -> 0 | F19: 노무비 * 0.09%
A20: CS | D20: [ 소 계 ] | E20: =TRUNC(E11+E12+E13+E14+E15+E16+E17+E18+E19, 0) -> 0
A21: S1 | B21: 계 | E21: =TRUNC(E7+E10+E20, 0) -> 0
A22: D1 | B22: 일 반 관 리 비 | E22: =TRUNC(E21*0.08, 0) -> 0 | F22: 계 * 8%
A23: D2 | B23: 이 윤 | E23: =TRUNC((E10+E20+E22)*0.15, 0) -> 0 | F23: (노무비+경비+일반관리비) * 15%
A24: D9 | B24: 공 급 가 액 | E24: =TRUNC(E21+E22+E23,0) -> 0
A25: DB | B25: 부 가 가 치 세 | E25: =TRUNC(E24*0.1, 0) -> 0 | F25: 공급가액 * 10%
A26: DH | B26: 도 급 액 | E26: =TRUNC(E24+E25,-1) -> 0
B27: 관급자 관급자재 | E27: =공종별집계표!L10 -> 0
A28: S2 | B28: 총 공 사 비 | E28: =TRUNC(E26+E27, 0) -> 0

Sheet 공종별집계표
A1: 공 종 별 집 계 표
A2: [ 대전로봇드론지원센터 시험동 신축정보통신공사 ]
A3: 품 명 | B3: 규 격 | C3: 단위 | D3: 수량 | E3: 재 료 비 | G3: 노 무 비 | I3: 경 비 | K3: 합 계 | M3: 비 고 | N3: 공종코드 | O3: 변수 | P3: 상위공종 | Q3: 공종구분 | R3: 공종레벨 | S3: 공종소계 | T3: 원가계산서 연결금액
E4: 단 가 | F4: 금 액 | G4: 단 가 | H4: 금 액 | I4: 단 가 | J4: 금 액 | K4: 단 가 | L4: 금 액
A5: 대전로봇드론지원센터 시험동 신축정보통신공사 | D5: 1 | N5: 01 | R5: 1
A6: 01. 정보통신공사 | D6: 1 | N6: 0101 | P6: 01 | R6: 2
A7: 통합배선설비공사 | D7: 1 | N7: 010101 | P7: 0101 | R7: 3
A8: CCTV설비공사 | D8: 1 | N8: 010102 | P8: 0101 | R8: 3
A9: 비상벨설비공사 | D9: 1 | N9: 010103 | P9: 0101 | R9: 3
A10: 02 관급자관급자재 | D10: 1 | E10: =F11+F12 -> 0 | F10: =E10*D10 -> 0 | H10: =G10*D10 -> 0 | J10: =I10*D10 -> 0 | K10: =E10+G10+I10 -> 0 | L10: =F10+H10+J10 -> 0
A11: CCTV설비 | D11: 1 | E11: =공종별내역서!L123 -> 0 | F11: =E11*D11 -> 0 | H11: =G11*D11 -> 0 | J11: =I11*D11 -> 0 | K11: =E11+G11+I11 -> 0 | L11: =F11+H11+J11 -> 0
A12: 통합배선설비 | D12: 1 | E12: =공종별내역서!L147 -> 0 | F12: =E12*D12 -> 0 | H12: =G12*D12 -> 0 | J12: =I12*D12 -> 0 | K12: =E12+G12+I12 -> 0 | L12: =F12+H12+J12 -> 0
A27: [ 합 계 ] | F27: =F5 -> 0 | H27: =H5 -> 0 | J27: =J5 -> 0 | L27: =L5 -> 0

Sheet 공종별내역서
A1: [ 대전로봇드론지원센터 시험동 신축정보통신공사 ]
A2: 품 명 | B2: 규 격 | C2: 단위 | D2: 수량 | E2: 재 료 비 | G2: 노 무 비 | I2: 경 비 | K2: 합 계 | M2: 비 고 | N2: 품목코드 | O2: 변수 | P2: 설정 | Q2: 공종코드 | R2: 일위 | S2: 단산 | T2: 자재 | U2: 손료적용 | V2: 손료저장 | W2: 적용율 | X2: JUK1 | Y2: JUK2 | Z2: JUK3 | AA2: JUK4 | AB2: JUK5 | AC2: JUK6 | AD2: JUK7 | AE2: JUK8 | AF2: JUK9 | AG2: JUK10 | AH2: JUK11 | AI2: JUK12 | AJ2: JUK13 | AK2: JUK14 | AL2: JUK15 | AM2: JUK16 | AN2: JUK17 | AO2: JUK18 | AP2: JUK19 | AQ2: JUK20 | AR2: 자재구분 | AS2: 공종구분 | AT2: 공종레벨 | AU2: 공종+자재 | AV2: 고유번호
E3: 단 가 | F3: 금 액 | G3: 단 가 | H3: 금 액 | I3: 단 가 | J3: 금 액 | K3: 단 가 | L3: 금 액
A4: 통합배선설비공사 | Q4: 010101
A5: 접지용비닐절연전선 | B5: 접지용비닐절연전선, F-GV, 6㎟ | C5: M | D5: 134 | N5: 51E1D11468C8A811103851CCA581527730900E | Q5: 010101 | R5: F | S5: F | T5: T | Y5: 2 | AU5: 01010151E1D11468C8A811103851CCA581527730900E | AV5: 4
A6: 옥외광섬유케이블 | B6: LAP외피광케이블, 광케이블, SM 9/125, 8C | C6: M | D6: 125 | N6: 51E1D11468C8A81122B802002EFEFCB3CA6109 | Q6: 010101 | R6: F | S6: F | T6: T | Y6: 2 | AU6: 01010151E1D11468C8A81122B802002EFEFCB3CA6109 | AV6: 5
A7: 풀박스 | B7: 풀박스, 200*200*200mm | C7: 개 | D7: 4 | N7: 51F281143718F79B98A8A85561902194416A24 | Q7: 010101 | R7: F | S7: F | T7: T | AU7: 01010151F281143718F79B98A8A85561902194416A24 | AV7: 6
A8: 옥외광섬유케이블 | B8: LAP외피광케이블, 광케이블, SM 9/125, 2C | C8: M | D8: 50 | N8: 51E1D11468C8A81122B802002EFEFCB3CA6064 | Q8: 010101 | R8: F | S8: F | T8: T | Y8: 2 | AU8: 01010151E1D11468C8A81122B802002EFEFCB3CA6064 | AV8: 7
A9: 아웃렛박스 | B9: 아웃렛박스, 중형4각, 54mm | C9: 개 | D9: 4 | N9: 51F281143718F79B98A8A3D326288C97781517 | Q9: 010101 | R9: F | S9: F | T9: T | AU9: 01010151F281143718F79B98A8A3D326288C97781517 | AV9: 9
A10: 리셉터클 | B10: 광포트 1구 | C10: 개 | D10: 2 | N10: 51F281143718F79BE0C8E3DE53BCFD6A6227B7 | Q10: 010101 | R10: F | S10: F | T10: T | AU10: 01010151F281143718F79BE0C8E3DE53BCFD6A6227B7 | AV10: 10
A11: 배관용 구멍뚫기(손파기)-Con,c | B11: 두께 20cm 이하 ∮300mm | C11: 개소 | D11: 4 | M11: 호표 1 | N11: 56980114D0185DBF9078650FE3B005 | Q11: 010101 | R11: T | S11: F | T11: F | AU11: 01010156980114D0185DBF9078650FE3B005 | AV11: 11
A12: 네트워크케이블 | B12: UTP Cat. 5E, 4P | C12: M | D12: 1192 | N12: 51E1D11468C8A8112288B8C4323DBC4ED7E15C | Q12: 010101 | R12: F | S12: F | T12: T | Y12: 2 | AU12: 01010151E1D11468C8A8112288B8C4323DBC4ED7E15C | AV12: 12
A13: 네트워크케이블 | B13: UTP Cat. 5E, 25P | C13: M | D13: 131 | N13: 51E1D11468C8A8112288B8C4323DBC4ED7E15F | Q13: 010101 | R13: F | S13: F | T13: T | Y13: 2 | AU13: 01010151E1D11468C8A8112288B8C4323DBC4ED7E15F | AV13: 13
A14: 합성수지제가요전선관 | B14: 합성수지제가요전선관, HL-PF16, Hi-lex-pf, 난연성, 16mm | C14: M | D14: 424 | N14: 51F281143718E50E4618E92DD037885A1B322B | Q14: 010101 | R14: F | S14: F | T14: T | X14: 1 | Y14: 2 | AU14: 01010151F281143718E50E4618E92DD037885A1B322B | AV14: 14
A15: 합성수지제가요전선관 | B15: 합성수지제가요전선관, HL-PF22, Hi-lex-pf, 난연성, 22mm | C15: M | D15: 290 | N15: 51F281143718E50E4618E92DD037885A1B322A | Q15: 010101 | R15: F | S15: F | T15: T | X15: 1 | Y15: 2 | AU15: 01010151F281143718E50E4618E92DD037885A1B322A | AV15: 15
A16: 합성수지제가요전선관 | B16: 합성수지제가요전선관, HL-PF28, Hi-lex-pf, 난연성, 28mm | C16: M | D16: 124 | N16: 51F281143718E50E4618E92DD037885A1B33CA | Q16: 010101 | R16: F | S16: F | T16: T | X16: 1 | Y16: 2 | AU16: 01010151F281143718E50E4618E92DD037885A1B33CA | AV16: 8
A17: 박강전선관 | B17: 19C | C17: M | D17: 56 | N17: 51F281143718E50E4618E92DD037885A1B33CB | Q17: 010101 | R17: F | S17: F | T17: T | X17: 1 | Y17: 2 | AU17: 01010151F281143718E50E4618E92DD037885A1B33CB | AV17: 53
A18: 박강전선관 | B18: 25C | C18: M | D18: 56 | N18: 51F281143718E50E4618E92DD037885A1B33C8 | Q18: 010101 | R18: F | S18: F | T18: T | X18: 1 | Y18: 2 | AU18: 01010151F281143718E50E4618E92DD037885A1B33C8 | AV18: 54
A19: 박강전선관 | B19: 31C | C19: M | D19: 56 | N19: 51F281143718E50E4618E92DD037885A1B33C9 | Q19: 010101 | R19: F | S19: F | T19: T | X19: 1 | Y19: 2 | AU19: 01010151F281143718E50E4618E92DD037885A1B33C9 | AV19: 55
A20: 전선관부속품비 | B20: CD 관의 40% | C20: 식 | D20: 1 | N20: 57CB511495A83A6489783B176973001 | Q20: 010101 | R20: F | S20: F | T20: F | U20: 0 | V20: 0 | W20: 0.4 | AU20: 01010157CB511495A83A6489783B176971003 | AV20: 65
A21: 잡재료비 | B21: 배관배선의 2% | C21: 식 | D21: 1 | N21: 57CB511495A83A6489783B176970002 | Q21: 010101 | R21: F | S21: F | T21: F | U21: 0 | V21: 0 | W21: 0.02 | AU21: 01010157CB511495A83A6489783B176973001 | AV21: 63
A22: 스위치박스 | B22: 스위치박스, 2개용, 54mm | C22: 개 | D22: 13 | N22: 51F281143718F79B98A8ADD77A330DFA85AD4B | Q22: 010101 | R22: F | S22: F | T22: T | AU22: 01010151F281143718F79B98A8ADD77A330DFA85AD4B | AV22: 16
A23: 리셉터클 | B23: 콘센트, 전화용, MODULAR 8P 2구 | C23: 개 | D23: 11 | N23: 51F281143718F79BE0C8E3DE53BCFD6A6227B6 | Q23: 010101 | R23: F | S23: F | T23: T | AU23: 01010151F281143718F79BE0C8E3DE53BCFD6A6227B6 | AV23: 17
A24: 특별인부 | B24: 일반공사 직종 | C24: 인 | D24: =#REF! -> #REF! | N24: 560981146C28EC22EAB8E332F3A947DF926C96 | Q24: 010101 | R24: F | S24: F | T24: T | Z24: 3 | AU24: 010101560981146C28EC22EAB8E332F3A947DF926C96 | AV24: 56
A25: 통신내선공 | B25: 일반공사 직종 | C25: 인 | D25: =#REF! -> #REF! | N25: 560981146C28EC22EAB8E332F3A947DF926446 | Q25: 010101 | R25: F | S25: F | T25: T | Z25: 3 | AU25: 010101560981146C28EC22EAB8E332F3A947DF926446 | AV25: 57
A26: 통신외선공 | B26: 일반공사 직종 | C26: 인 | D26: =#REF! -> #REF! | N26: 560981146C28EC22EAB8E332F3A947DF926448 | Q26: 010101 | R26: F | S26: F | T26: T | Z26: 3 | AU26: 010101560981146C28EC22EAB8E332F3A947DF926448 | AV26: 58
A27: 통신케이블공 | B27: 일반공사 직종 | C27: 인 | D27: =#REF! -> #REF! | N27: 560981146C28EC22EAB8E332F3A947DF926449 | Q27: 010101 | R27: F | S27: F | T27: T | Z27: 3 | AU27: 010101560981146C28EC22EAB8E332F3A947DF926449 | AV27: 59
A28: 광케이블설치사 | B28: 광전자 직종 | C28: 인 | D28: =#REF! -> #REF! | N28: 560981146C28EC22EAB8E07D25EA49F753D3B2 | Q28: 010101 | R28: F | S28: F | T28: T | Z28: 3 | AU28: 010101560981146C28EC22EAB8E07D25EA49F753D3B2 | AV28: 60
A29: 공구손료 | B29: 인력품의 3% | C29: 식 | D29: 1 | N29: 57CB511495A83A6489783B176971003 | Q29: 010101 | R29: F | S29: F | T29: F | U29: 1 | V29: 0 | W29: 0.03 | AU29: 01010157CB511495A83A6489783B176970002 | AV29: 64
Q30: 010101
Q31: 010101
Q32: 010101
Q33: 010101
Q34: 010101
Q35: 010101
Q36: 010101
Q37: 010101
Q38: 010101
Q39: 010101
Q40: 010101
Q41: 010101
... Q50: 010101
A51: [ 합 계 ] | N51: TOTAL
A52: CCTV설비공사 | Q52: 010102
A53: 네트워크케이블 | B53: UTP Cat. 6, 4P | C53: M | D53: 1006 | N53: 51E1D11468C8A8112288B8C4323DBC4ED7E15E | Q53: 010102 | R53: F | S53: F | T53: T | Z53: 3 | AU53: 01010251E1D11468C8A8112288B8C4323DBC4ED7E15E | AV53: 19
A54: 풀박스 | B54: 풀박스, 200*200*150mm | C54: 개 | D54: 17 | N54: 51F281143718F79B98A8A85561902194416A25 | Q54: 010102 | R54: F | S54: F | T54: T | AU54: 01010251F281143718F79B98A8A85561902194416A25 | AV54: 21
A55: 경질비닐전선관 | B55: 경질비닐전선관, HI, 16mm | C55: M | D55: 38 | N55: 51F281143718E50E4618E92DD037885B2D3655 | Q55: 010102 | R55: F | S55: F | T55: T | Y55: 2 | Z55: 3 | AU55: 01010251F281143718E50E4618E92DD037885B2D3655 | AV55: 22
A56: 합성수지제가요전선관 | B56: 합성수지제가요전선관, HL-PF16, Hi-lex-pf, 난연성, 16mm | C56: M | D56: 73 | N56: 51F281143718E50E4618E92DD037885A1B322B | Q56: 010102 | R56: F | S56: F | T56: T | X56: 1 | Z56: 3 | AU56: 01010251F281143718E50E4618E92DD037885A1B322B | AV56: 23
A57: 합성수지제가요전선관 | B57: 합성수지제가요전선관, HL-PF22, Hi-lex-pf, 난연성, 22mm | C57: M | D57: 15 | N57: 51F281143718E50E4618E92DD037885A1B322A | Q57: 010102 | R57: F | S57: F | T57: T | X57: 1 | Z57: 3 | AU57: 01010251F281143718E50E4618E92DD037885A1B322A | AV57: 24
A58: 합성수지제가요전선관 | B58: 합성수지제가요전선관, HL-PF28, Hi-lex-pf, 난연성, 28mm | C58: M | D58: 16 | N58: 51F281143718E50E4618E92DD037885A1B33CA | Q58: 010102 | R58: F | S58: F | T58: T | X58: 1 | Z58: 3 | AU58: 01010251F281143718E50E4618E92DD037885A1B33CA | AV58: 20
A59: 전선관부속품비 | B59: CD 관의 40% | C59: 식 | D59: 1 | N59: 57CB511495A83A6489783B176973001 | Q59: 010102 | R59: F | S59: F | T59: F | U59: 0 | V59: 0 | W59: 0.4 | AU59: 01010257CB511495A83A6489783B176971003 | AV59: 68
A60: 경질비닐전선관 | B60: 경질비닐전선관, HI, 28mm | C60: M | D60: 34 | N60: 51F281143718E50E4618E92DD037885B2D3657 | Q60: 010102 | R60: F | S60: F | T60: T | Y60: 2 | Z60: 3 | AU60: 01010251F281143718E50E4618E92DD037885B2D3657 | AV60: 25
A61: 경질비닐전선관 | B61: 경질비닐전선관, HI, 36mm | C61: M | D61: 73 | N61: 51F281143718E50E4618E92DD037885B2D3658 | Q61: 010102 | R61: F | S61: F | T61: T | Y61: 2 | Z61: 3 | AU61: 01010251F281143718E50E4618E92DD037885B2D3658 | AV61: 26
A62: 전선관부속품비 | B62: 전선관의 15% | C62: 식 | D62: 1 | N62: 57CB511495A83A6489783B176970002 | Q62: 010102 | R62: F | S62: F | T62: F | U62: 0 | V62: 0 | W62: 0.15 | AU62: 01010257CB511495A83A6489783B176976004 | AV62: 69
A63: 잡재료비 | B63: 배관배선의 2% | C63: 식 | D63: 1 | N63: 57CB511495A83A6489783B176971003 | Q63: 010102 | R63: F | S63: F | T63: F | U63: 0 | V63: 0 | W63: 0.02 | AU63: 01010257CB511495A83A6489783B176973001 | AV63: 66
A64: 통신내선공 | B64: 일반공사 직종 | C64: 인 | D64: =#REF! -> #REF! | N64: 560981146C28EC22EAB8E332F3A947DF926446 | Q64: 010102 | R64: F | S64: F | T64: T | AA64: 4 | AU64: 010102560981146C28EC22EAB8E332F3A947DF926446 | AV64: 61
A65: 통신케이블공 | B65: 일반공사 직종 | C65: 인 | D65: =#REF! -> #REF! | N65: 560981146C28EC22EAB8E332F3A947DF926449 | Q65: 010102 | R65: F | S65: F | T65: T | AA65: 4 | AU65: 010102560981146C28EC22EAB8E332F3A947DF926449 | AV65: 62
A66: 공구손료 | B66: 인력품의 3% | C66: 식 | D66: 1 | N66: 57CB511495A83A6489783B176976004 | Q66: 010102 | R66: F | S66: F | T66: F | U66: 1 | V66: 0 | W66: 0.03 | AU66: 01010257CB511495A83A6489783B176970002 | AV66: 67
Q67: 010102
Q68: 010102
Q69: 010102
Q70: 010102
Q71: 010102
Q72: 010102
Q73: 010102
Q74: 010102
A75: [ 합 계 ] | N75: TOTAL
A76: 비상벨설비공사 | Q76: 010103
A77: 화장실용 비상콜 | B77: 화장실용 비상콜 설치 | C77: 식 | D77: 2 | M77: 호표 2 | N77: 5780211454D8E65682B8FB984FC74B | Q77: 010103 | R77: T | S77: F | T77: F | AU77: 0101035780211454D8E65682B8FB984FC74B | AV77: 28
A78: 비상벨 | C78: 식 | D78: 2 | N78: 51E1D11468C8A8112288B73DA379420725F008 | Q78: 010103 | R78: F | S78: F | T78: T | X78: 1 | AU78: 01010351E1D11468C8A8112288B73DA379420725F008 | AV78: 29
A79: 잡재료비 | B79: 배관배선의 2% | C79: 식 | D79: 1 | N79: 57CB511495A83A6489783B176973001 | Q79: 010103 | R79: F | S79: F | T79: F | U79: 0 | V79: 0 | W79: 0.02 | AU79: 01010357CB511495A83A6489783B176973001 | AV79: 70
Q80: 010103
Q81: 010103
Q82: 010103
Q83: 010103
Q84: 010103
Q85: 010103
Q86: 010103
Q87: 010103
Q88: 010103
Q89: 010103
Q90: 010103
Q91: 010103
... Q98: 010103
A99: [ 합 계 ] | N99: TOTAL
A100: 010201 CCTV설비
A101: CCTV설비 | C101: 식 | D101: 1
A102: 조달수수료 | B102: 0.54% | C102: 식 | D102: 1
A103: 계
A104: 적용금액
A123: [ 합 계 ]
A124: 010202 통합배선설비
A125: 통합배선설비 | C125: 식 | D125: 1
A126: 조달수수료 | B126: 0.54% | C126: 식 | D126: 1
A127: 계
A128: 적용금액
A147: [ 합 계 ]

Sheet 공량설정
A1: 공종명 | B1: 적용율(%) | C1: 소수점이하자릿수 | D1: 공종코드
A2: 010101 통합배선설비공사 | B2: 100 | D2: 010101
A3: 특별인부 | C3: 0 | D3: 010101560981146C28EC22EAB8E332F3A947DF926C96
A4: 통신내선공 | C4: 0 | D4: 010101560981146C28EC22EAB8E332F3A947DF926446
A5: 통신외선공 | C5: 0 | D5: 010101560981146C28EC22EAB8E332F3A947DF926448
A6: 통신케이블공 | C6: 0 | D6: 010101560981146C28EC22EAB8E332F3A947DF926449
A7: 광케이블설치사 | C7: 0 | D7: 010101560981146C28EC22EAB8E07D25EA49F753D3B2
A8: 010102 CCTV설비공사 | B8: 100 | D8: 010102
A9: 통신내선공 | C9: 0 | D9: 010102560981146C28EC22EAB8E332F3A947DF926446
A10: 통신케이블공 | C10: 0 | D10: 010102560981146C28EC22EAB8E332F3A947DF926449
A11: 010103 비상벨설비공사 | B11: 100 | D11: 010103

Sheet 공량산출근거서_일위대가
A1: 공 량 산 출 근 거 서
A2: [ 대전로봇드론지원센터 시험동 신축정보통신공사 ]
A3: 코 드 | B3: 품 명 | C3: 규 격 | D3: 단위 | E3: 품 셈 목 록 | F3: 수 량 | G3: 할증 | H3: 노임할증-1 | I3: 노임할증-2 | J3: 노임할증-3 | K3: 내역수량 | L3: 직 종 명 | M3: 공 량 | N3: 계 | O3: 번 호 | P3: 비 고 | T3: 일위대가목록+자재

Sheet 공량설정_일위대가
A1: 일위대가 | B1: 적용율(%) | C1: 소수점이하자릿수 | D1: 일위대가 코드
A2: 배관용 구멍뚫기(손파기)-Con,c 두께 20cm 이하 ∮300mm (호표 1) | B2: 100 | D2: 56980114D0185DBF9078650FE3B005
A3: 특별인부 | C3: 2 | D3: 56980114D0185DBF9078650FE3B005560981146C28EC22EAB8E332F3A947DF926C96
A4: 화장실용 비상콜 화장실용 비상콜 설치 (호표 2) | B4: 100 | D4: 5780211454D8E65682B8FB984FC74B
A5: 통신설비공 | C5: 2 | D5: 5780211454D8E65682B8FB984FC74B560981146C28EC22EAB8E332F3A947DF926447

Sheet  공사설정 
A1: 이 Sheet는 수정하지 마십시요
A2: 공사구분 | B2: D | C2: 타이틀
A3: 확정내역 | B3: 원내역
A4: 자재단가적용 | B4: 5
A5: 경비단가적용 | B5: 5
A6: 품목코드형식 | B6: XXXX-XXXXXXXXXXXXX
A7: 내역금액소수점처리 | B7: C | C7: 1
A8: 일위대가내역소수점처리 | B8: C | C8: 2
A9: 단가명 | B9: 조달청가격 | C9: 거래가격 | D9: 유통물가 | E9: 조사가격1 | F9: 조사가격2 | G9: TTTTT
A10: 환율 | B10: 1466 | C10: 0 | D10: 0
A11: 시간당작업량 | B11: R | C11: 4
A12: 1회 사이클시간 | B12: R | C12: 4
A13: 시간당 작업사이클 | B13: R | C13: 3
A14: 일반변수 | B14: R | C14: 5
A15: 시간당 노임산출 계수 | B15: A | C15: 1/8*16/12*25/20 | D15: 1/8*16/12*25/20 | E15: 1/8*16/12*25/20 | F15: 1
A16: 재료비 할증 계수 | B16: 0 | C16: 0
A17: 노무비 할증 계수 | B17: 0 | C17: 0 | D17: 0 | E17: 0 | F17: 0 | G17: 0 | H17: 0 | I17: 0 | J17: 0 | K17: 0 | L17: 0 | M17: 0
A18: 경비 할증 계수 | B18: 0 | C18: 0
A19: 내역,일위대가 품명,규격,단위 따로적용
A20: 내역단가 소수점처리 | C20: 1
A21: 코드 | B21: 공종구분명 | C21: 원가비목코드
A22: 1 | B22: 작 업 부 산 물 | C22: A3
A23: 2 | B23: 운 반 비 | C23: C1
A24: 3 | B24: 관 급 자 재 비 | C24: DJ
A25: 4 | B25: 사 급 자 재 비 | C25: D3
A26: 5 | B26: 외 자 재
A27: 6 | B27: 폐기물처리비
A28: 7 | B28: ...
A29: 8 | B29: ...
A30: 9 | B30: ...
A31: A | B31: ....
A32: B | B32: .....
A33: C | B33: ....
A34: D | B34: ....
A35: E | B35: ....
A36: F | B36: ....
A37: G | B37: ....
A38: H | B38: ....
A39: I | B39: ....
A40: J | B40: ....
A43: 단가 순서 | B43: 1234
